BEGIN:VCALENDAR
VERSION:2.0
PRODID:Where &amp; When
 //NONSGML Events //EN
CALSCALE:GREGORIAN
X-WR-CALNAME:Where &amp; When
BEGIN:VEVENT
CREATED:20210716T194548Z
UID:65570
DTEND;VALUE=DATE:20210910T050000Z
DTSTART;VALUE=DATE:20210910T050000Z
DTSTAMP:20260426T022146Z
LOCATION:2205 Hiawatha Blvd. Williamsport PA\, 17701
DESCRIPTION:
SUMMARY:Concert Cruise
ORGANIZER: 
URL;VALUE=URI:https://whereandwhen.com/events/concert-cruise/
TRANSP:OPAQUE
BEGIN:VALARM
ACTION:DISPLAY
TRIGGER;VALUE=DATE-TIME:20210910T050000Z
DESCRIPTION:Reminder for Concert Cruise
END:VALARM
END:VEVENT
END:VCALENDAR
