BEGIN:VCALENDAR
VERSION:2.0
PRODID:Where &amp; When
 //NONSGML Events //EN
CALSCALE:GREGORIAN
X-WR-CALNAME:Where &amp; When
BEGIN:VEVENT
CREATED:20210406T140926Z
UID:63728
DTEND;VALUE=DATE:20210828T050000Z
DTSTART;VALUE=DATE:20210820T050000Z
DTSTAMP:20260426T012207Z
LOCATION:149 Homan Lane Centre Hall PA\, 16828
DESCRIPTION:
SUMMARY:Centre County Grange Fair
ORGANIZER: 
URL;VALUE=URI:https://whereandwhen.com/events/centre-county-grange-fair/
TRANSP:OPAQUE
BEGIN:VALARM
ACTION:DISPLAY
TRIGGER;VALUE=DATE-TIME:20210828T050000Z
DESCRIPTION:Reminder for Centre County Grange Fair
END:VALARM
END:VEVENT
END:VCALENDAR
