BEGIN:VCALENDAR
VERSION:2.0
PRODID:Where &amp; When
 //NONSGML Events //EN
CALSCALE:GREGORIAN
X-WR-CALNAME:Where &amp; When
BEGIN:VEVENT
CREATED:20200904T145653Z
UID:61954
DTEND;VALUE=DATE:20200907T050000Z
DTSTART;VALUE=DATE:20200907T050000Z
DTSTAMP:20260420T194753Z
LOCATION:320 Chestnut St Philadelphia PA\, 19106
DESCRIPTION:
SUMMARY:Commemoration of the Invocation at the First Continental Congress
ORGANIZER: 
URL;VALUE=URI:https://whereandwhen.com/events/commemoration-of-the-invocation-at-the-first-continental-congress/
TRANSP:OPAQUE
BEGIN:VALARM
ACTION:DISPLAY
TRIGGER;VALUE=DATE-TIME:20200907T050000Z
DESCRIPTION:Reminder for Commemoration of the Invocation at the First Continental Congress
END:VALARM
END:VEVENT
END:VCALENDAR
