BEGIN:VCALENDAR
VERSION:2.0
PRODID:Where &amp; When
 //NONSGML Events //EN
CALSCALE:GREGORIAN
X-WR-CALNAME:Where &amp; When
BEGIN:VEVENT
CREATED:20200420T184500Z
UID:60225
DTEND;VALUE=DATE:20200731T050000Z
DTSTART;VALUE=DATE:20200731T050000Z
DTSTAMP:20260424T213252Z
LOCATION:510 Main St. Forest City PA\, 18421
DESCRIPTION:
SUMMARY:Forest City Trail Town Festival Light Parade
ORGANIZER: 
URL;VALUE=URI:https://whereandwhen.com/events/forest-city-trail-town-festival-light-parade/
TRANSP:OPAQUE
BEGIN:VALARM
ACTION:DISPLAY
TRIGGER;VALUE=DATE-TIME:20200731T050000Z
DESCRIPTION:Reminder for Forest City Trail Town Festival Light Parade
END:VALARM
END:VEVENT
END:VCALENDAR
