BEGIN:VCALENDAR
VERSION:2.0
PRODID:Where &amp; When
 //NONSGML Events //EN
CALSCALE:GREGORIAN
X-WR-CALNAME:Where &amp; When
BEGIN:VEVENT
CREATED:20200420T183806Z
UID:60215
DTEND;VALUE=DATE:20200726T050000Z
DTSTART;VALUE=DATE:20200726T050000Z
DTSTAMP:20260421T142705Z
LOCATION:891 LaPorte Ave. Eagles Mere PA\, 17731
DESCRIPTION:
SUMMARY:Silent Auction Fundraiser
ORGANIZER: 
URL;VALUE=URI:https://whereandwhen.com/events/silent-auction-fundraiser/
TRANSP:OPAQUE
BEGIN:VALARM
ACTION:DISPLAY
TRIGGER;VALUE=DATE-TIME:20200726T050000Z
DESCRIPTION:Reminder for Silent Auction Fundraiser
END:VALARM
END:VEVENT
END:VCALENDAR
