BEGIN:VCALENDAR
VERSION:2.0
PRODID:Where &amp; When
 //NONSGML Events //EN
CALSCALE:GREGORIAN
X-WR-CALNAME:Where &amp; When
BEGIN:VEVENT
CREATED:20200415T181040Z
UID:59922
DTEND;VALUE=DATE:20200606T050000Z
DTSTART;VALUE=DATE:20200606T050000Z
DTSTAMP:20260420T100414Z
LOCATION:49 Park Pl New Milford PA\, 18834
DESCRIPTION:
SUMMARY:Ice Cream Social
ORGANIZER: 
URL;VALUE=URI:https://whereandwhen.com/events/ice-cream-social/
TRANSP:OPAQUE
BEGIN:VALARM
ACTION:DISPLAY
TRIGGER;VALUE=DATE-TIME:20200606T050000Z
DESCRIPTION:Reminder for Ice Cream Social
END:VALARM
END:VEVENT
END:VCALENDAR
