BEGIN:VCALENDAR
VERSION:2.0
PRODID:Where &amp; When
 //NONSGML Events //EN
CALSCALE:GREGORIAN
X-WR-CALNAME:Where &amp; When
BEGIN:VEVENT
CREATED:20200409T191857Z
UID:59782
DTEND;VALUE=DATE:20200425T050000Z
DTSTART;VALUE=DATE:20200425T050000Z
DTSTAMP:20260420T200237Z
LOCATION:98 Racetrack Road Mill Hall PA\, 17751
DESCRIPTION:
SUMMARY:Wine in the Wilds at Lock Haven
ORGANIZER: 
URL;VALUE=URI:https://whereandwhen.com/events/wine-in-the-wilds-at-lock-haven/
TRANSP:OPAQUE
BEGIN:VALARM
ACTION:DISPLAY
TRIGGER;VALUE=DATE-TIME:20200425T050000Z
DESCRIPTION:Reminder for Wine in the Wilds at Lock Haven
END:VALARM
END:VEVENT
END:VCALENDAR
