BEGIN:VCALENDAR
VERSION:2.0
PRODID:Where &amp; When
 //NONSGML Events //EN
CALSCALE:GREGORIAN
X-WR-CALNAME:Where &amp; When
BEGIN:VEVENT
CREATED:20200409T191425Z
UID:59251
DTEND;VALUE=DATE:20201030T050000Z
DTSTART;VALUE=DATE:20201015T050000Z
DTSTAMP:20260422T131831Z
LOCATION:423 W. 38th St. Erie PA\, 16508
DESCRIPTION:
SUMMARY:Zoo Boo
ORGANIZER: 
URL;VALUE=URI:https://whereandwhen.com/events/zoo-boo/
TRANSP:OPAQUE
BEGIN:VALARM
ACTION:DISPLAY
TRIGGER;VALUE=DATE-TIME:20201030T050000Z
DESCRIPTION:Reminder for Zoo Boo
END:VALARM
END:VEVENT
END:VCALENDAR
