BEGIN:VCALENDAR
VERSION:2.0
PRODID:Where &amp; When
 //NONSGML Events //EN
CALSCALE:GREGORIAN
X-WR-CALNAME:Where &amp; When
BEGIN:VEVENT
CREATED:20191108T094300Z
UID:41180
DTEND;VALUE=DATE:20260422T055552Z
DTSTART;VALUE=DATE:20260422T055552Z
DTSTAMP:20260422T005552Z
LOCATION:  \, 
DESCRIPTION:
SUMMARY:Super 8
ORGANIZER: 
URL;VALUE=URI:https://whereandwhen.com/lodging/super-8/
TRANSP:OPAQUE
BEGIN:VALARM
ACTION:DISPLAY
TRIGGER;VALUE=DATE-TIME:20260422T055552Z
DESCRIPTION:Reminder for Super 8
END:VALARM
END:VEVENT
END:VCALENDAR
