BEGIN:VCALENDAR
VERSION:2.0
PRODID:Where &amp; When
 //NONSGML Events //EN
CALSCALE:GREGORIAN
X-WR-CALNAME:Where &amp; When
BEGIN:VEVENT
CREATED:20191108T094214Z
UID:41022
DTEND;VALUE=DATE:20260421T142627Z
DTSTART;VALUE=DATE:20260421T142627Z
DTSTAMP:20260421T092627Z
LOCATION:  \, 
DESCRIPTION:
SUMMARY:Grand Estate at Hidden Acres
ORGANIZER: 
URL;VALUE=URI:https://whereandwhen.com/lodging/grand-estate-at-hidden-acres/
TRANSP:OPAQUE
BEGIN:VALARM
ACTION:DISPLAY
TRIGGER;VALUE=DATE-TIME:20260421T142627Z
DESCRIPTION:Reminder for Grand Estate at Hidden Acres
END:VALARM
END:VEVENT
END:VCALENDAR
