BEGIN:VCALENDAR
VERSION:2.0
PRODID:Where &amp; When
 //NONSGML Events //EN
CALSCALE:GREGORIAN
X-WR-CALNAME:Where &amp; When
BEGIN:VEVENT
CREATED:20191108T093819Z
UID:40770
DTEND;VALUE=DATE:20260422T213955Z
DTSTART;VALUE=DATE:20260422T213955Z
DTSTAMP:20260422T163955Z
LOCATION:  \, 
DESCRIPTION:
SUMMARY:Newburg Campground
ORGANIZER: 
URL;VALUE=URI:https://whereandwhen.com/lodging/newburg-campground/
TRANSP:OPAQUE
BEGIN:VALARM
ACTION:DISPLAY
TRIGGER;VALUE=DATE-TIME:20260422T213955Z
DESCRIPTION:Reminder for Newburg Campground
END:VALARM
END:VEVENT
END:VCALENDAR
