BEGIN:VCALENDAR
VERSION:2.0
PRODID:Where &amp; When
 //NONSGML Events //EN
CALSCALE:GREGORIAN
X-WR-CALNAME:Where &amp; When
BEGIN:VEVENT
CREATED:20191108T093751Z
UID:40668
DTEND;VALUE=DATE:20260422T185949Z
DTSTART;VALUE=DATE:20260422T185949Z
DTSTAMP:20260422T135949Z
LOCATION:  \, 
DESCRIPTION:
SUMMARY:Silver Canoe Campground
ORGANIZER: 
URL;VALUE=URI:https://whereandwhen.com/lodging/silver-canoe-campground/
TRANSP:OPAQUE
BEGIN:VALARM
ACTION:DISPLAY
TRIGGER;VALUE=DATE-TIME:20260422T185949Z
DESCRIPTION:Reminder for Silver Canoe Campground
END:VALARM
END:VEVENT
END:VCALENDAR
