BEGIN:VCALENDAR
VERSION:2.0
PRODID:Where &amp; When
 //NONSGML Events //EN
CALSCALE:GREGORIAN
X-WR-CALNAME:Where &amp; When
BEGIN:VEVENT
CREATED:20260421T175119Z
UID:127299
DTEND;VALUE=DATE:20260509T050000Z
DTSTART;VALUE=DATE:20260509T050000Z
DTSTAMP:20260421T210028Z
LOCATION:2418 Grasslyn Ave Havertown PA\, 19083
DESCRIPTION:
SUMMARY:FREE EVENT- GANS GATHERING 100TH ANNIVERSARY EVENT &#038\; FUNDRAISER!
ORGANIZER: 
URL;VALUE=URI:https://whereandwhen.com/events/free-event-gans-gathering-100th-anniversary-event-fundraiser/
TRANSP:OPAQUE
BEGIN:VALARM
ACTION:DISPLAY
TRIGGER;VALUE=DATE-TIME:20260509T050000Z
DESCRIPTION:Reminder for FREE EVENT- GANS GATHERING 100TH ANNIVERSARY EVENT &#038\; FUNDRAISER!
END:VALARM
END:VEVENT
END:VCALENDAR
