BEGIN:VCALENDAR
VERSION:2.0
PRODID:Where &amp; When
 //NONSGML Events //EN
CALSCALE:GREGORIAN
X-WR-CALNAME:Where &amp; When
BEGIN:VEVENT
CREATED:20260421T135946Z
UID:127267
DTEND;VALUE=DATE:20260707T050000Z
DTSTART;VALUE=DATE:20260702T050000Z
DTSTAMP:20260421T170754Z
LOCATION:1216 Parkside Dr  North Wyomissing PA\, 19610
DESCRIPTION:
SUMMARY:West Reading Wyomissing Rotary Clubs Field Of Heroes
ORGANIZER: 
URL;VALUE=URI:https://whereandwhen.com/events/west-reading-wyomissing-rotary-clubs-field-of-heroes-2/
TRANSP:OPAQUE
BEGIN:VALARM
ACTION:DISPLAY
TRIGGER;VALUE=DATE-TIME:20260707T050000Z
DESCRIPTION:Reminder for West Reading Wyomissing Rotary Clubs Field Of Heroes
END:VALARM
END:VEVENT
END:VCALENDAR
