BEGIN:VCALENDAR
VERSION:2.0
PRODID:Where &amp; When
 //NONSGML Events //EN
CALSCALE:GREGORIAN
X-WR-CALNAME:Where &amp; When
BEGIN:VEVENT
CREATED:20260421T135835Z
UID:127266
DTEND;VALUE=DATE:20260704T050000Z
DTSTART;VALUE=DATE:20260704T050000Z
DTSTAMP:20260421T171709Z
LOCATION:Downtown Ebensburg  Ebensburg PA\, 15931
DESCRIPTION:
SUMMARY:America 250 PA Parade and Ceremony
ORGANIZER: 
URL;VALUE=URI:https://whereandwhen.com/events/america-250-pa-parade-and-ceremony/
TRANSP:OPAQUE
BEGIN:VALARM
ACTION:DISPLAY
TRIGGER;VALUE=DATE-TIME:20260704T050000Z
DESCRIPTION:Reminder for America 250 PA Parade and Ceremony
END:VALARM
END:VEVENT
END:VCALENDAR
