BEGIN:VCALENDAR
VERSION:2.0
PRODID:Where &amp; When
 //NONSGML Events //EN
CALSCALE:GREGORIAN
X-WR-CALNAME:Where &amp; When
BEGIN:VEVENT
CREATED:20260421T135725Z
UID:127264
DTEND;VALUE=DATE:20260705T050000Z
DTSTART;VALUE=DATE:20260705T050000Z
DTSTAMP:20260421T171349Z
LOCATION:922 Newton Sanford Rd Pittsfield PA\, 16340
DESCRIPTION:
SUMMARY:250 Years Strong Freedom on Wheels
ORGANIZER: 
URL;VALUE=URI:https://whereandwhen.com/events/250-years-strong-freedom-on-wheels/
TRANSP:OPAQUE
BEGIN:VALARM
ACTION:DISPLAY
TRIGGER;VALUE=DATE-TIME:20260705T050000Z
DESCRIPTION:Reminder for 250 Years Strong Freedom on Wheels
END:VALARM
END:VEVENT
END:VCALENDAR
