BEGIN:VCALENDAR
VERSION:2.0
PRODID:Where &amp; When
 //NONSGML Events //EN
CALSCALE:GREGORIAN
X-WR-CALNAME:Where &amp; When
BEGIN:VEVENT
CREATED:20260421T135611Z
UID:127262
DTEND;VALUE=DATE:20260517T050000Z
DTSTART;VALUE=DATE:20260514T050000Z
DTSTAMP:20260421T171216Z
LOCATION:Susquehannock Rd Hesston PA\, 16647
DESCRIPTION:
SUMMARY:DirtFest 2026: Presented by Tonewood Brewing
ORGANIZER: 
URL;VALUE=URI:https://whereandwhen.com/events/dirtfest-2026-presented-by-tonewood-brewing/
TRANSP:OPAQUE
BEGIN:VALARM
ACTION:DISPLAY
TRIGGER;VALUE=DATE-TIME:20260517T050000Z
DESCRIPTION:Reminder for DirtFest 2026: Presented by Tonewood Brewing
END:VALARM
END:VEVENT
END:VCALENDAR
