BEGIN:VCALENDAR
VERSION:2.0
PRODID:Where &amp; When
 //NONSGML Events //EN
CALSCALE:GREGORIAN
X-WR-CALNAME:Where &amp; When
BEGIN:VEVENT
CREATED:20260421T135413Z
UID:127260
DTEND;VALUE=DATE:20260704T050000Z
DTSTART;VALUE=DATE:20260704T050000Z
DTSTAMP:20260421T183342Z
LOCATION:402 east Beaver St Zelienople PA\, 16063
DESCRIPTION:
SUMMARY:Light Up The Streets: Kampas Orthodontics Firecracker 5K And 1-Mile Fun Run
ORGANIZER: 
URL;VALUE=URI:https://whereandwhen.com/events/light-up-the-streets-kampas-orthodontics-firecracker-5k-and-1-mile-fun-run/
TRANSP:OPAQUE
BEGIN:VALARM
ACTION:DISPLAY
TRIGGER;VALUE=DATE-TIME:20260704T050000Z
DESCRIPTION:Reminder for Light Up The Streets: Kampas Orthodontics Firecracker 5K And 1-Mile Fun Run
END:VALARM
END:VEVENT
END:VCALENDAR
