BEGIN:VCALENDAR
VERSION:2.0
PRODID:Where &amp; When
 //NONSGML Events //EN
CALSCALE:GREGORIAN
X-WR-CALNAME:Where &amp; When
BEGIN:VEVENT
CREATED:20260419T211219Z
UID:127238
DTEND;VALUE=DATE:20260403T050000Z
DTSTART;VALUE=DATE:20260703T050000Z
DTSTAMP:20260420T004626Z
LOCATION:200 N Washington Ave. Scranton PA\, 18503
DESCRIPTION:
SUMMARY:Scrantastic Spectacular &#038\; Fireworks
ORGANIZER: 
URL;VALUE=URI:https://whereandwhen.com/events/scrantastic-spectacular-fireworks/
TRANSP:OPAQUE
BEGIN:VALARM
ACTION:DISPLAY
TRIGGER;VALUE=DATE-TIME:20260403T050000Z
DESCRIPTION:Reminder for Scrantastic Spectacular &#038\; Fireworks
END:VALARM
END:VEVENT
END:VCALENDAR
