BEGIN:VCALENDAR
VERSION:2.0
PRODID:Where &amp; When
 //NONSGML Events //EN
CALSCALE:GREGORIAN
X-WR-CALNAME:Where &amp; When
BEGIN:VEVENT
CREATED:20260419T205720Z
UID:127234
DTEND;VALUE=DATE:20260619T050000Z
DTSTART;VALUE=DATE:20260619T050000Z
DTSTAMP:20260420T005147Z
LOCATION:1902 North Main Avenue\, Scranton PA\, 18508
DESCRIPTION:
SUMMARY:Juneteenth Jubilee Block Party
ORGANIZER: 
URL;VALUE=URI:https://whereandwhen.com/events/juneteenth-jubilee-block-party/
TRANSP:OPAQUE
BEGIN:VALARM
ACTION:DISPLAY
TRIGGER;VALUE=DATE-TIME:20260619T050000Z
DESCRIPTION:Reminder for Juneteenth Jubilee Block Party
END:VALARM
END:VEVENT
END:VCALENDAR
