BEGIN:VCALENDAR
VERSION:2.0
PRODID:Where &amp; When
 //NONSGML Events //EN
CALSCALE:GREGORIAN
X-WR-CALNAME:Where &amp; When
BEGIN:VEVENT
CREATED:20260419T203637Z
UID:127230
DTEND;VALUE=DATE:20260830T050000Z
DTSTART;VALUE=DATE:20260830T050000Z
DTSTAMP:20260420T000106Z
LOCATION:276 Harrison Ave. Elkins Park PA\, 19027
DESCRIPTION:
SUMMARY:Battle of the Breweries
ORGANIZER: 
URL;VALUE=URI:https://whereandwhen.com/events/battle-of-the-breweries/
TRANSP:OPAQUE
BEGIN:VALARM
ACTION:DISPLAY
TRIGGER;VALUE=DATE-TIME:20260830T050000Z
DESCRIPTION:Reminder for Battle of the Breweries
END:VALARM
END:VEVENT
END:VCALENDAR
