BEGIN:VCALENDAR
VERSION:2.0
PRODID:Where &amp; When
 //NONSGML Events //EN
CALSCALE:GREGORIAN
X-WR-CALNAME:Where &amp; When
BEGIN:VEVENT
CREATED:20260419T203121Z
UID:127227
DTEND;VALUE=DATE:20260802T050000Z
DTSTART;VALUE=DATE:20260802T050000Z
DTSTAMP:20260419T233715Z
LOCATION:553 S. Bethlehem Pk Fort Washington PA\, 19034
DESCRIPTION:
SUMMARY:Declaring Independence &#038\; Ice Cream Social
ORGANIZER: 
URL;VALUE=URI:https://whereandwhen.com/events/declaring-independence-ice-cream-social/
TRANSP:OPAQUE
BEGIN:VALARM
ACTION:DISPLAY
TRIGGER;VALUE=DATE-TIME:20260802T050000Z
DESCRIPTION:Reminder for Declaring Independence &#038\; Ice Cream Social
END:VALARM
END:VEVENT
END:VCALENDAR
