BEGIN:VCALENDAR
VERSION:2.0
PRODID:Where &amp; When
 //NONSGML Events //EN
CALSCALE:GREGORIAN
X-WR-CALNAME:Where &amp; When
BEGIN:VEVENT
CREATED:20260419T193256Z
UID:127218
DTEND;VALUE=DATE:20260705T050000Z
DTSTART;VALUE=DATE:20260703T050000Z
DTSTAMP:20260419T235937Z
LOCATION:throughout Montgomery County PA\, 19406
DESCRIPTION:
SUMMARY:Houses of Declaration
ORGANIZER: 
URL;VALUE=URI:https://whereandwhen.com/events/houses-of-declaration/
TRANSP:OPAQUE
BEGIN:VALARM
ACTION:DISPLAY
TRIGGER;VALUE=DATE-TIME:20260705T050000Z
DESCRIPTION:Reminder for Houses of Declaration
END:VALARM
END:VEVENT
END:VCALENDAR
