BEGIN:VCALENDAR
VERSION:2.0
PRODID:Where &amp; When
 //NONSGML Events //EN
CALSCALE:GREGORIAN
X-WR-CALNAME:Where &amp; When
BEGIN:VEVENT
CREATED:20260419T192521Z
UID:127215
DTEND;VALUE=DATE:20260705T050000Z
DTSTART;VALUE=DATE:20260703T050000Z
DTSTAMP:20260419T235814Z
LOCATION:1400 N. Outer Line Drive King of Prussia PA\, 19406
DESCRIPTION:
SUMMARY:50/250 Celebration Retreat To Valley Forge
ORGANIZER: 
URL;VALUE=URI:https://whereandwhen.com/events/50-250-celebration-retreat-to-valley-forge/
TRANSP:OPAQUE
BEGIN:VALARM
ACTION:DISPLAY
TRIGGER;VALUE=DATE-TIME:20260705T050000Z
DESCRIPTION:Reminder for 50/250 Celebration Retreat To Valley Forge
END:VALARM
END:VEVENT
END:VCALENDAR
