BEGIN:VCALENDAR
VERSION:2.0
PRODID:Where &amp; When
 //NONSGML Events //EN
CALSCALE:GREGORIAN
X-WR-CALNAME:Where &amp; When
BEGIN:VEVENT
CREATED:20260419T191210Z
UID:127208
DTEND;VALUE=DATE:20260627T050000Z
DTSTART;VALUE=DATE:20260627T050000Z
DTSTAMP:20260419T235301Z
LOCATION:850 Weikel Road Lansdale PA\, 19446
DESCRIPTION:
SUMMARY:Founding Fathers Cornhole Tournament
ORGANIZER: 
URL;VALUE=URI:https://whereandwhen.com/events/founding-fathers-cornhole-tournament/
TRANSP:OPAQUE
BEGIN:VALARM
ACTION:DISPLAY
TRIGGER;VALUE=DATE-TIME:20260627T050000Z
DESCRIPTION:Reminder for Founding Fathers Cornhole Tournament
END:VALARM
END:VEVENT
END:VCALENDAR
