BEGIN:VCALENDAR
VERSION:2.0
PRODID:Where &amp; When
 //NONSGML Events //EN
CALSCALE:GREGORIAN
X-WR-CALNAME:Where &amp; When
BEGIN:VEVENT
CREATED:20260417T193306Z
UID:127113
DTEND;VALUE=DATE:20260805T050000Z
DTSTART;VALUE=DATE:20260805T050000Z
DTSTAMP:20260419T120151Z
LOCATION:9 Butterfly Lane Nescopeck PA\, 18635
DESCRIPTION:
SUMMARY:Music in the Garden – Jeff Jams
ORGANIZER: 
URL;VALUE=URI:https://whereandwhen.com/events/music-in-the-garden-jeff-jams/
TRANSP:OPAQUE
BEGIN:VALARM
ACTION:DISPLAY
TRIGGER;VALUE=DATE-TIME:20260805T050000Z
DESCRIPTION:Reminder for Music in the Garden – Jeff Jams
END:VALARM
END:VEVENT
END:VCALENDAR
