BEGIN:VCALENDAR
VERSION:2.0
PRODID:Where &amp; When
 //NONSGML Events //EN
CALSCALE:GREGORIAN
X-WR-CALNAME:Where &amp; When
BEGIN:VEVENT
CREATED:20260417T193048Z
UID:127110
DTEND;VALUE=DATE:20260801T050000Z
DTSTART;VALUE=DATE:20260801T050000Z
DTSTAMP:20260423T164748Z
LOCATION:401 Bride Avenue Sunbury PA\, 17801
DESCRIPTION:
SUMMARY:2026 Susquehanna Greenway Outdoor Expo
ORGANIZER: 
URL;VALUE=URI:https://whereandwhen.com/events/2026-susquehanna-greenway-outdoor-expo/
TRANSP:OPAQUE
BEGIN:VALARM
ACTION:DISPLAY
TRIGGER;VALUE=DATE-TIME:20260801T050000Z
DESCRIPTION:Reminder for 2026 Susquehanna Greenway Outdoor Expo
END:VALARM
END:VEVENT
END:VCALENDAR
