BEGIN:VCALENDAR
VERSION:2.0
PRODID:Where &amp; When
 //NONSGML Events //EN
CALSCALE:GREGORIAN
X-WR-CALNAME:Where &amp; When
BEGIN:VEVENT
CREATED:20260417T180231Z
UID:126975
DTEND;VALUE=DATE:20260610T050000Z
DTSTART;VALUE=DATE:20260610T050000Z
DTSTAMP:20260420T082837Z
LOCATION:135 West Front Street Berwick PA\, 18603
DESCRIPTION:
SUMMARY:The Coffeehouse Series Presents: Bob Alonge
ORGANIZER: 
URL;VALUE=URI:https://whereandwhen.com/events/the-coffeehouse-series-presents-bob-alonge/
TRANSP:OPAQUE
BEGIN:VALARM
ACTION:DISPLAY
TRIGGER;VALUE=DATE-TIME:20260610T050000Z
DESCRIPTION:Reminder for The Coffeehouse Series Presents: Bob Alonge
END:VALARM
END:VEVENT
END:VCALENDAR
