BEGIN:VCALENDAR
VERSION:2.0
PRODID:Where &amp; When
 //NONSGML Events //EN
CALSCALE:GREGORIAN
X-WR-CALNAME:Where &amp; When
BEGIN:VEVENT
CREATED:20260417T175614Z
UID:126967
DTEND;VALUE=DATE:20260616T050000Z
DTSTART;VALUE=DATE:20260610T050000Z
DTSTAMP:20260420T082745Z
LOCATION:18628 US Rt. 15 Allenwood PA\, 17810
DESCRIPTION:
SUMMARY:Zoo Camp at Reptiland
ORGANIZER: 
URL;VALUE=URI:https://whereandwhen.com/events/zoo-camp-at-reptiland/
TRANSP:OPAQUE
BEGIN:VALARM
ACTION:DISPLAY
TRIGGER;VALUE=DATE-TIME:20260616T050000Z
DESCRIPTION:Reminder for Zoo Camp at Reptiland
END:VALARM
END:VEVENT
END:VCALENDAR
