BEGIN:VCALENDAR
VERSION:2.0
PRODID:Where &amp; When
 //NONSGML Events //EN
CALSCALE:GREGORIAN
X-WR-CALNAME:Where &amp; When
BEGIN:VEVENT
CREATED:20260416T151042Z
UID:126840
DTEND;VALUE=DATE:20260927T050000Z
DTSTART;VALUE=DATE:20260508T050000Z
DTSTAMP:20260422T085107Z
LOCATION:1001 Longwood Road Kennett Square PA\, 19348
DESCRIPTION:
SUMMARY:Longwood Gardens Festival of Fountains
ORGANIZER: 
URL;VALUE=URI:https://whereandwhen.com/events/longwood-gardens-festival-of-fountains-3/
TRANSP:OPAQUE
BEGIN:VALARM
ACTION:DISPLAY
TRIGGER;VALUE=DATE-TIME:20260927T050000Z
DESCRIPTION:Reminder for Longwood Gardens Festival of Fountains
END:VALARM
END:VEVENT
END:VCALENDAR
