BEGIN:VCALENDAR
VERSION:2.0
PRODID:Where &amp; When
 //NONSGML Events //EN
CALSCALE:GREGORIAN
X-WR-CALNAME:Where &amp; When
BEGIN:VEVENT
CREATED:20260304T174000Z
UID:125020
DTEND;VALUE=DATE:20260318T050000Z
DTSTART;VALUE=DATE:20260318T050000Z
DTSTAMP:20260425T184015Z
LOCATION:950 Soldiers Drive Carlisle PA\, 17013
DESCRIPTION:
SUMMARY:Perspectives in Military History Lecture: Strike Cell
ORGANIZER: 
URL;VALUE=URI:https://whereandwhen.com/events/perspectives-in-military-history-lecture-strike-cell/
TRANSP:OPAQUE
BEGIN:VALARM
ACTION:DISPLAY
TRIGGER;VALUE=DATE-TIME:20260318T050000Z
DESCRIPTION:Reminder for Perspectives in Military History Lecture: Strike Cell
END:VALARM
END:VEVENT
END:VCALENDAR
