BEGIN:VCALENDAR
VERSION:2.0
PRODID:Where &amp; When
 //NONSGML Events //EN
CALSCALE:GREGORIAN
X-WR-CALNAME:Where &amp; When
BEGIN:VEVENT
CREATED:20260210T174749Z
UID:124713
DTEND;VALUE=DATE:20260214T050000Z
DTSTART;VALUE=DATE:20260214T050000Z
DTSTAMP:20260420T082713Z
LOCATION:5660 US 6 Ulysses PA\, 16948
DESCRIPTION:
SUMMARY:Lumberjack Day and Pancake Breakfast
ORGANIZER: 
URL;VALUE=URI:https://whereandwhen.com/events/lumberjack-day-and-pancake-breakfast/
TRANSP:OPAQUE
BEGIN:VALARM
ACTION:DISPLAY
TRIGGER;VALUE=DATE-TIME:20260214T050000Z
DESCRIPTION:Reminder for Lumberjack Day and Pancake Breakfast
END:VALARM
END:VEVENT
END:VCALENDAR
