BEGIN:VCALENDAR
VERSION:2.0
PRODID:Where &amp; When
 //NONSGML Events //EN
CALSCALE:GREGORIAN
X-WR-CALNAME:Where &amp; When
BEGIN:VEVENT
CREATED:20260112T162038Z
UID:124301
DTEND;VALUE=DATE:20260315T050000Z
DTSTART;VALUE=DATE:20260315T050000Z
DTSTAMP:20260419T115253Z
LOCATION:100 Barracks Road Butler PA\, 16601
DESCRIPTION:
SUMMARY:Butler-Built Garage Open House
ORGANIZER: 
URL;VALUE=URI:https://whereandwhen.com/events/butler-built-garage-open-house/
TRANSP:OPAQUE
BEGIN:VALARM
ACTION:DISPLAY
TRIGGER;VALUE=DATE-TIME:20260315T050000Z
DESCRIPTION:Reminder for Butler-Built Garage Open House
END:VALARM
END:VEVENT
END:VCALENDAR
