BEGIN:VCALENDAR
VERSION:2.0
PRODID:Where &amp; When
 //NONSGML Events //EN
CALSCALE:GREGORIAN
X-WR-CALNAME:Where &amp; When
BEGIN:VEVENT
CREATED:20251231T143608Z
UID:123813
DTEND;VALUE=DATE:20260503T050000Z
DTSTART;VALUE=DATE:20260503T050000Z
DTSTAMP:20260425T185436Z
LOCATION:202 Museum Lane Titusville PA\, 16354
DESCRIPTION:
SUMMARY:Engine Start Up Day
ORGANIZER: 
URL;VALUE=URI:https://whereandwhen.com/events/engine-start-up-day-2/
TRANSP:OPAQUE
BEGIN:VALARM
ACTION:DISPLAY
TRIGGER;VALUE=DATE-TIME:20260503T050000Z
DESCRIPTION:Reminder for Engine Start Up Day
END:VALARM
END:VEVENT
END:VCALENDAR
