BEGIN:VCALENDAR
VERSION:2.0
PRODID:Where &amp; When
 //NONSGML Events //EN
CALSCALE:GREGORIAN
X-WR-CALNAME:Where &amp; When
BEGIN:VEVENT
CREATED:20251229T194437Z
UID:123714
DTEND;VALUE=DATE:20260308T050000Z
DTSTART;VALUE=DATE:20260228T050000Z
DTSTAMP:20260421T081901Z
LOCATION:1101 Arch St Philadelphia PA\, 19107
DESCRIPTION:
SUMMARY:2026 PHS Philadelphia Flower Show
ORGANIZER: 
URL;VALUE=URI:https://whereandwhen.com/events/2026-phs-philadelphia-flower-show/
TRANSP:OPAQUE
BEGIN:VALARM
ACTION:DISPLAY
TRIGGER;VALUE=DATE-TIME:20260308T050000Z
DESCRIPTION:Reminder for 2026 PHS Philadelphia Flower Show
END:VALARM
END:VEVENT
END:VCALENDAR
