BEGIN:VCALENDAR
VERSION:2.0
PRODID:Where &amp; When
 //NONSGML Events //EN
CALSCALE:GREGORIAN
X-WR-CALNAME:Where &amp; When
BEGIN:VEVENT
CREATED:20251013T155430Z
UID:122879
DTEND;VALUE=DATE:20251206T050000Z
DTSTART;VALUE=DATE:20251206T050000Z
DTSTAMP:20260421T082146Z
LOCATION:Indiana Indiana PA\, 15701
DESCRIPTION:
SUMMARY:5th Annual Quota Christmas Home Tour
ORGANIZER: 
URL;VALUE=URI:https://whereandwhen.com/events/5th-annual-quota-christmas-home-tour/
TRANSP:OPAQUE
BEGIN:VALARM
ACTION:DISPLAY
TRIGGER;VALUE=DATE-TIME:20251206T050000Z
DESCRIPTION:Reminder for 5th Annual Quota Christmas Home Tour
END:VALARM
END:VEVENT
END:VCALENDAR
