BEGIN:VCALENDAR
VERSION:2.0
PRODID:Where &amp; When
 //NONSGML Events //EN
CALSCALE:GREGORIAN
X-WR-CALNAME:Where &amp; When
BEGIN:VEVENT
CREATED:20250916T152358Z
UID:121593
DTEND;VALUE=DATE:20251123T050000Z
DTSTART;VALUE=DATE:20251114T050000Z
DTSTAMP:20260420T083227Z
LOCATION:881 Rockford Road Lancaster PA\, 17602
DESCRIPTION:
SUMMARY:&#8220\;Persuasion&#8221\;
ORGANIZER: 
URL;VALUE=URI:https://whereandwhen.com/events/persuasion/
TRANSP:OPAQUE
BEGIN:VALARM
ACTION:DISPLAY
TRIGGER;VALUE=DATE-TIME:20251123T050000Z
DESCRIPTION:Reminder for &#8220\;Persuasion&#8221\;
END:VALARM
END:VEVENT
END:VCALENDAR
