BEGIN:VCALENDAR
VERSION:2.0
PRODID:Where &amp; When
 //NONSGML Events //EN
CALSCALE:GREGORIAN
X-WR-CALNAME:Where &amp; When
BEGIN:VEVENT
CREATED:20250829T134932Z
UID:120155
DTEND;VALUE=DATE:20250912T050000Z
DTSTART;VALUE=DATE:20250912T050000Z
DTSTAMP:20260421T082044Z
LOCATION:800 E Lancaster Avenue Villanova PA\, 19085
DESCRIPTION:
SUMMARY:Broadway Sings
ORGANIZER: 
URL;VALUE=URI:https://whereandwhen.com/events/broadway-sings/
TRANSP:OPAQUE
BEGIN:VALARM
ACTION:DISPLAY
TRIGGER;VALUE=DATE-TIME:20250912T050000Z
DESCRIPTION:Reminder for Broadway Sings
END:VALARM
END:VEVENT
END:VCALENDAR
