BEGIN:VCALENDAR
VERSION:2.0
PRODID:Where &amp; When
 //NONSGML Events //EN
CALSCALE:GREGORIAN
X-WR-CALNAME:Where &amp; When
BEGIN:VEVENT
CREATED:20250718T193928Z
UID:118472
DTEND;VALUE=DATE:20250906T050000Z
DTSTART;VALUE=DATE:20250906T050000Z
DTSTAMP:20260420T151502Z
LOCATION:1256 Lake Drive  Curwensville  PA\, 16833
DESCRIPTION:
SUMMARY:Conservation Celebration
ORGANIZER: 
URL;VALUE=URI:https://whereandwhen.com/events/conservation-celebration/
TRANSP:OPAQUE
BEGIN:VALARM
ACTION:DISPLAY
TRIGGER;VALUE=DATE-TIME:20250906T050000Z
DESCRIPTION:Reminder for Conservation Celebration
END:VALARM
END:VEVENT
END:VCALENDAR
