BEGIN:VCALENDAR
VERSION:2.0
PRODID:Where &amp; When
 //NONSGML Events //EN
CALSCALE:GREGORIAN
X-WR-CALNAME:Where &amp; When
BEGIN:VEVENT
CREATED:20250714T185344Z
UID:117729
DTEND;VALUE=DATE:20251019T050000Z
DTSTART;VALUE=DATE:20251004T050000Z
DTSTAMP:20260424T160243Z
LOCATION:downtown Jim Thorpe PA\, 18229
DESCRIPTION:
SUMMARY:Jim Thorpe Fall Foliage Festival
ORGANIZER: 
URL;VALUE=URI:https://whereandwhen.com/events/jim-thorpe-fall-foliage-festival-2/
TRANSP:OPAQUE
BEGIN:VALARM
ACTION:DISPLAY
TRIGGER;VALUE=DATE-TIME:20251019T050000Z
DESCRIPTION:Reminder for Jim Thorpe Fall Foliage Festival
END:VALARM
END:VEVENT
END:VCALENDAR
