BEGIN:VCALENDAR
VERSION:2.0
PRODID:Where &amp; When
 //NONSGML Events //EN
CALSCALE:GREGORIAN
X-WR-CALNAME:Where &amp; When
BEGIN:VEVENT
CREATED:20250708T172256Z
UID:116451
DTEND;VALUE=DATE:20251005T050000Z
DTSTART;VALUE=DATE:20251005T050000Z
DTSTAMP:20260419T125927Z
LOCATION:110 East Lincoln Ave New Castle PA\, 16101
DESCRIPTION:
SUMMARY:A Taste of Ireland ~ The Irish Music and Dance Sensation
ORGANIZER: 
URL;VALUE=URI:https://whereandwhen.com/events/a-taste-of-ireland-the-irish-music-and-dance-sensation/
TRANSP:OPAQUE
BEGIN:VALARM
ACTION:DISPLAY
TRIGGER;VALUE=DATE-TIME:20251005T050000Z
DESCRIPTION:Reminder for A Taste of Ireland ~ The Irish Music and Dance Sensation
END:VALARM
END:VEVENT
END:VCALENDAR
