BEGIN:VCALENDAR
VERSION:2.0
PRODID:Where &amp; When
 //NONSGML Events //EN
CALSCALE:GREGORIAN
X-WR-CALNAME:Where &amp; When
BEGIN:VEVENT
CREATED:20250415T152824Z
UID:107291
DTEND;VALUE=DATE:20250614T050000Z
DTSTART;VALUE=DATE:20250614T050000Z
DTSTAMP:20260421T082032Z
LOCATION:435 Hamill Road Indiana PA\, 15701
DESCRIPTION:
SUMMARY:Walk &#038\; Talk at the Conservation District Gardens
ORGANIZER: 
URL;VALUE=URI:https://whereandwhen.com/events/walk-talk-at-the-conservation-district-gardens/
TRANSP:OPAQUE
BEGIN:VALARM
ACTION:DISPLAY
TRIGGER;VALUE=DATE-TIME:20250614T050000Z
DESCRIPTION:Reminder for Walk &#038\; Talk at the Conservation District Gardens
END:VALARM
END:VEVENT
END:VCALENDAR
