BEGIN:VCALENDAR
VERSION:2.0
PRODID:Where &amp; When
 //NONSGML Events //EN
CALSCALE:GREGORIAN
X-WR-CALNAME:Where &amp; When
BEGIN:VEVENT
CREATED:20250410T184845Z
UID:106589
DTEND;VALUE=DATE:20250928T050000Z
DTSTART;VALUE=DATE:20250320T050000Z
DTSTAMP:20260425T010033Z
LOCATION:Various stops around Berks County Reading PA\, 19605
DESCRIPTION:
SUMMARY:Berks County&#8217\;s Sweet &#038\; Salty Trail
ORGANIZER: 
URL;VALUE=URI:https://whereandwhen.com/events/berks-countys-sweet-salty-trail/
TRANSP:OPAQUE
BEGIN:VALARM
ACTION:DISPLAY
TRIGGER;VALUE=DATE-TIME:20250928T050000Z
DESCRIPTION:Reminder for Berks County&#8217\;s Sweet &#038\; Salty Trail
END:VALARM
END:VEVENT
END:VCALENDAR
