BEGIN:VCALENDAR
VERSION:2.0
PRODID:Where &amp; When
 //NONSGML Events //EN
CALSCALE:GREGORIAN
X-WR-CALNAME:Where &amp; When
BEGIN:VEVENT
CREATED:20250407T140604Z
UID:106423
DTEND;VALUE=DATE:20250810T050000Z
DTSTART;VALUE=DATE:20250808T050000Z
DTSTAMP:20260421T181055Z
LOCATION:1617 Walnut Street Erie PA\, 16502
DESCRIPTION:
SUMMARY:St. Paul&#8217\;s Annual Italian Festival 2025
ORGANIZER: 
URL;VALUE=URI:https://whereandwhen.com/events/st-pauls-annual-italian-festival-2025/
TRANSP:OPAQUE
BEGIN:VALARM
ACTION:DISPLAY
TRIGGER;VALUE=DATE-TIME:20250810T050000Z
DESCRIPTION:Reminder for St. Paul&#8217\;s Annual Italian Festival 2025
END:VALARM
END:VEVENT
END:VCALENDAR
