BEGIN:VCALENDAR
VERSION:2.0
PRODID:Where &amp; When
 //NONSGML Events //EN
CALSCALE:GREGORIAN
X-WR-CALNAME:Where &amp; When
BEGIN:VEVENT
CREATED:20250407T135046Z
UID:106414
DTEND;VALUE=DATE:20250727T050000Z
DTSTART;VALUE=DATE:20250721T050000Z
DTSTAMP:20260420T134933Z
LOCATION:1 Peninsula Drive Erie PA\, 16505
DESCRIPTION:
SUMMARY:Discover Presque Isle 2025
ORGANIZER: 
URL;VALUE=URI:https://whereandwhen.com/events/discover-presque-isle-2025/
TRANSP:OPAQUE
BEGIN:VALARM
ACTION:DISPLAY
TRIGGER;VALUE=DATE-TIME:20250727T050000Z
DESCRIPTION:Reminder for Discover Presque Isle 2025
END:VALARM
END:VEVENT
END:VCALENDAR
