BEGIN:VCALENDAR
VERSION:2.0
PRODID:Where &amp; When
 //NONSGML Events //EN
CALSCALE:GREGORIAN
X-WR-CALNAME:Where &amp; When
BEGIN:VEVENT
CREATED:20250402T183522Z
UID:106069
DTEND;VALUE=DATE:20250417T050000Z
DTSTART;VALUE=DATE:20250417T050000Z
DTSTAMP:20260420T215200Z
LOCATION:141 N 3rd Street Philadelphia PA\, 19106
DESCRIPTION:
SUMMARY:The Museum for Art in Wood Presents Hold Signal: A Response to Distance
ORGANIZER: 
URL;VALUE=URI:https://whereandwhen.com/events/the-museum-for-art-in-wood-presents-hold-signal-a-response-to-distance/
TRANSP:OPAQUE
BEGIN:VALARM
ACTION:DISPLAY
TRIGGER;VALUE=DATE-TIME:20250417T050000Z
DESCRIPTION:Reminder for The Museum for Art in Wood Presents Hold Signal: A Response to Distance
END:VALARM
END:VEVENT
END:VCALENDAR
