BEGIN:VCALENDAR
VERSION:2.0
PRODID:Where &amp; When
 //NONSGML Events //EN
CALSCALE:GREGORIAN
X-WR-CALNAME:Where &amp; When
BEGIN:VEVENT
CREATED:20250402T120151Z
UID:105854
DTEND;VALUE=DATE:20250615T050000Z
DTSTART;VALUE=DATE:20250612T050000Z
DTSTAMP:20260423T135845Z
LOCATION:1127 New Castle Road Prospect PA\, 16052 
DESCRIPTION:
SUMMARY:Big Butler Parts A Rama
ORGANIZER: 
URL;VALUE=URI:https://whereandwhen.com/events/big-butler-parts-a-rama/
TRANSP:OPAQUE
BEGIN:VALARM
ACTION:DISPLAY
TRIGGER;VALUE=DATE-TIME:20250615T050000Z
DESCRIPTION:Reminder for Big Butler Parts A Rama
END:VALARM
END:VEVENT
END:VCALENDAR
